BEGIN:VCALENDAR
VERSION:2.0
PRODID:-//Pitt Town &amp; District Sports Club - ECPv6.15.16.1//NONSGML v1.0//EN
CALSCALE:GREGORIAN
METHOD:PUBLISH
X-WR-CALNAME:Pitt Town &amp; District Sports Club
X-ORIGINAL-URL:https://pitttownsports.com.au
X-WR-CALDESC:Events for Pitt Town &amp; District Sports Club
REFRESH-INTERVAL;VALUE=DURATION:PT1H
X-Robots-Tag:noindex
X-PUBLISHED-TTL:PT1H
BEGIN:VTIMEZONE
TZID:Australia/Sydney
BEGIN:STANDARD
TZOFFSETFROM:+1100
TZOFFSETTO:+1000
TZNAME:AEST
DTSTART:20240406T160000
END:STANDARD
BEGIN:DAYLIGHT
TZOFFSETFROM:+1000
TZOFFSETTO:+1100
TZNAME:AEDT
DTSTART:20241005T160000
END:DAYLIGHT
BEGIN:STANDARD
TZOFFSETFROM:+1100
TZOFFSETTO:+1000
TZNAME:AEST
DTSTART:20250405T160000
END:STANDARD
BEGIN:DAYLIGHT
TZOFFSETFROM:+1000
TZOFFSETTO:+1100
TZNAME:AEDT
DTSTART:20251004T160000
END:DAYLIGHT
BEGIN:STANDARD
TZOFFSETFROM:+1100
TZOFFSETTO:+1000
TZNAME:AEST
DTSTART:20260404T160000
END:STANDARD
BEGIN:DAYLIGHT
TZOFFSETFROM:+1000
TZOFFSETTO:+1100
TZNAME:AEDT
DTSTART:20261003T160000
END:DAYLIGHT
BEGIN:STANDARD
TZOFFSETFROM:+1100
TZOFFSETTO:+1000
TZNAME:AEST
DTSTART:20270403T160000
END:STANDARD
BEGIN:DAYLIGHT
TZOFFSETFROM:+1000
TZOFFSETTO:+1100
TZNAME:AEDT
DTSTART:20271002T160000
END:DAYLIGHT
END:VTIMEZONE
BEGIN:VEVENT
DTSTART;VALUE=DATE:20260101
DTEND;VALUE=DATE:20260126
DTSTAMP:20260423T004616
CREATED:20260113T025951Z
LAST-MODIFIED:20260113T025951Z
UID:10031401-1767225600-1769385599@pitttownsports.com.au
SUMMARY:Hark Charcoal Spit BBQ Australia Day Raffle
DESCRIPTION:
URL:https://pitttownsports.com.au/event/hark-charcoal-spit-bbq-australia-day-raffle/
CATEGORIES:Weekly Events
ATTACH;FMTTYPE=image/jpeg:https://pitttownsports.com.au/wp-content/uploads/2026/01/Ninja_Woodfire_Pro_BBQ_Raffle_-_FB_-_Pitt_Town_Sports.jpg
END:VEVENT
BEGIN:VEVENT
DTSTART;TZID=Australia/Sydney:20251225T120000
DTEND;TZID=Australia/Sydney:20251225T120000
DTSTAMP:20260423T004616
CREATED:20251203T030739Z
LAST-MODIFIED:20251203T030739Z
UID:10031396-1766664000-1766664000@pitttownsports.com.au
SUMMARY:Christmas Day Buffet
DESCRIPTION:🎄 Christmas Day Buffet at Pitt Town Sports Club\n25th December – Hosted by Bistro 139\nCelebrate Christmas Day with family and friends over a delicious festive buffet at Pitt Town Sports Club! Enjoy a generous selection of fresh seafood\, hot dishes\, salads\, kids’ favourites\, and indulgent desserts—something for everyone to enjoy. \n✨ Pricing \n\n$110 for Members\n$120 for Non-Members\n$60 for Kids (Under 12)\nKids Under 6 Eat FREE\n\n🍤 Seafood Section \n\n Queensland Tiger Prawns with Marie Rose Sauce\n Sydney Rock Oysters with Lemon & Condiments (DF\, GF)\n Baked Salmon\n Octopus Salad (DF)\n\n🔥 Hot Buffet \n\nHoney Glazed Ham with all the Trimmings\nTurkey with Cranberry\nBaked Root Vegetables\nAromatic Basmati Rice\nThai Chicken Curry\nSalt & Pepper Calamari\n\n🥗 Salad Section \n\nGreek Salad (DF\, GF)\nCaesar Salad Station (GF)\nRoast Pumpkin & Couscous Salad\n\n👧 Kids Buffet \n\nSpaghetti Bolognese\nChicken Nuggets\nPenne with Creamy Mushroom Sauce\nHot Chips\nKids Ice Cream\n\n🍰 Dessert Section \n\nChristmas Pudding with Brandy Custard\nBlack Forest Cake with Fresh Berries\nMango Lime Mousse (GF)\nFresh Fruit Salad\n\n⏰ Event Schedule \n\nClub opens at 11:00am\nBuffet seating begins at 11:30am\nBuffet runs from 12:00pm to 3:00pm\nClub closes at 4:00pm\n\n📌 Bookings Essential\nReserve your table at reception by Monday 19th December\, or call the Club Monday–Friday between 10am and 4pm on 4572 3658.\nMake your Christmas Day effortless\, festive\, and delicious—join us at Pitt Town Sports Club! 🌟”
URL:https://pitttownsports.com.au/event/christmas-day-buffet/
CATEGORIES:Weekly Events
ATTACH;FMTTYPE=image/jpeg:https://pitttownsports.com.au/wp-content/uploads/2025/12/Bistro_139_Chrismas_Day_Menu_2025__-_Facebook_-_Pitt_Town_Sports_V3__1_.jpg
END:VEVENT
BEGIN:VEVENT
DTSTART;VALUE=DATE:20251207
DTEND;VALUE=DATE:20251229
DTSTAMP:20260423T004616
CREATED:20251202T041602Z
LAST-MODIFIED:20251202T041659Z
UID:10031391-1765065600-1766966399@pitttownsports.com.au
SUMMARY:Sunday Ham Raffle
DESCRIPTION:
URL:https://pitttownsports.com.au/event/sunday-ham-raffle/
CATEGORIES:Weekly Events
ATTACH;FMTTYPE=image/jpeg:https://pitttownsports.com.au/wp-content/uploads/2025/12/Sunday_Christmas_Raffle_-_Facebook_-_Pitt_Town_Sports.jpg
END:VEVENT
BEGIN:VEVENT
DTSTART;VALUE=DATE:20251113
DTEND;VALUE=DATE:20251219
DTSTAMP:20260423T004616
CREATED:20251202T042351Z
LAST-MODIFIED:20251202T042918Z
UID:10031395-1762992000-1766102399@pitttownsports.com.au
SUMMARY:Thursday Christmas Meat Raffles
DESCRIPTION:
URL:https://pitttownsports.com.au/event/thursday-christmas-meat-raffles/
CATEGORIES:Weekly Events
ATTACH;FMTTYPE=image/jpeg:https://pitttownsports.com.au/wp-content/uploads/2025/12/Thursday-Christmas.jpg
END:VEVENT
BEGIN:VEVENT
DTSTART;VALUE=DATE:20251008
DTEND;VALUE=DATE:20260101
DTSTAMP:20260423T004616
CREATED:20251008T024901Z
LAST-MODIFIED:20251012T235848Z
UID:10031375-1759881600-1767225599@pitttownsports.com.au
SUMMARY:Courtesy Bus
DESCRIPTION:Need a lift? \nOur Courtesy bus is available from\nThursday to Saturday from 5pm to 10pm\,\ngive the club a call on 4572 3658 to book the bus ahead of time or call 0407 929 239  whist the bus is running\, \nservicing the following districts: \n\nPitt Town\nOakville\nMcGraths Hill\nMaraylya\nCattai\nGables & Hills of Carmel
URL:https://pitttownsports.com.au/event/courtesy-bus/
CATEGORIES:Weekly Events
ATTACH;FMTTYPE=image/jpeg:https://pitttownsports.com.au/wp-content/uploads/2025/10/Courtesy-Bus-2025-Social-Tile-Pitt-Town-Sports-V3.jpg
END:VEVENT
BEGIN:VEVENT
DTSTART;TZID=Australia/Sydney:20250207T173000
DTEND;TZID=Australia/Sydney:20250207T173000
DTSTAMP:20260423T004616
CREATED:20250205T033500Z
LAST-MODIFIED:20250206T005655Z
UID:10030485-1738949400-1738949400@pitttownsports.com.au
SUMMARY:Members Badge Draw
DESCRIPTION:Three Draws every Friday taking place 5:30pm\, 6:30pm & 7:30pm
URL:https://pitttownsports.com.au/event/members-badge-draw-2/
CATEGORIES:Weekly Events
ATTACH;FMTTYPE=image/jpeg:https://pitttownsports.com.au/wp-content/uploads/2025/02/470240892_1169388565046897_7566805806869251364_n.jpg
END:VEVENT
BEGIN:VEVENT
DTSTART;VALUE=DATE:20250130
DTEND;VALUE=DATE:20250530
DTSTAMP:20260423T004616
CREATED:20250129T233452Z
LAST-MODIFIED:20250206T005747Z
UID:10030221-1738195200-1748563199@pitttownsports.com.au
SUMMARY:Thursday Meat Raffles
DESCRIPTION:15 meat trays every Thursday\, plus a Members Second Chance Mega Meat Tray! \nJoin us at The Pitt Town Sports Club starting from January 16th. \nTickets on sale from 5:30pm with the Draw at 7:30pm.
URL:https://pitttownsports.com.au/event/thursday-meat-raffles/
CATEGORIES:Weekly Events
ATTACH;FMTTYPE=image/jpeg:https://pitttownsports.com.au/wp-content/uploads/2025/01/Pitt-Town-Sports-SOCIAL-Thursday-Meat-Raffles-2025.jpg
END:VEVENT
END:VCALENDAR